BEGIN:VCALENDAR
VERSION:2.0
PRODID:-//deutsches mineralienmuseum - ECPv6.15.20//NONSGML v1.0//EN
CALSCALE:GREGORIAN
METHOD:PUBLISH
X-WR-CALNAME:deutsches mineralienmuseum
X-ORIGINAL-URL:https://deutsches-mineralienmuseum.de
X-WR-CALDESC:Veranstaltungen für deutsches mineralienmuseum
REFRESH-INTERVAL;VALUE=DURATION:PT1H
X-Robots-Tag:noindex
X-PUBLISHED-TTL:PT1H
BEGIN:VTIMEZONE
TZID:Europe/Berlin
BEGIN:DAYLIGHT
TZOFFSETFROM:+0100
TZOFFSETTO:+0200
TZNAME:CEST
DTSTART:20250330T010000
END:DAYLIGHT
BEGIN:STANDARD
TZOFFSETFROM:+0200
TZOFFSETTO:+0100
TZNAME:CET
DTSTART:20251026T010000
END:STANDARD
BEGIN:DAYLIGHT
TZOFFSETFROM:+0100
TZOFFSETTO:+0200
TZNAME:CEST
DTSTART:20260329T010000
END:DAYLIGHT
BEGIN:STANDARD
TZOFFSETFROM:+0200
TZOFFSETTO:+0100
TZNAME:CET
DTSTART:20261025T010000
END:STANDARD
BEGIN:DAYLIGHT
TZOFFSETFROM:+0100
TZOFFSETTO:+0200
TZNAME:CEST
DTSTART:20270328T010000
END:DAYLIGHT
BEGIN:STANDARD
TZOFFSETFROM:+0200
TZOFFSETTO:+0100
TZNAME:CET
DTSTART:20271031T010000
END:STANDARD
END:VTIMEZONE
BEGIN:VEVENT
DTSTART;VALUE=DATE:20260510
DTEND;VALUE=DATE:20260517
DTSTAMP:20260424T204923
CREATED:20250729T203311Z
LAST-MODIFIED:20250729T204115Z
UID:4317-1778403600-1778921999@deutsches-mineralienmuseum.de
SUMMARY:Bodensee\, 10.05. - 15.05.2026
DESCRIPTION:Der Inhalt ist geschützt.
URL:https://deutsches-mineralienmuseum.de/event/bodensee-10-05-15-05-2026
LOCATION:Bodensee\, Germany
CATEGORIES:Reise,Veranstaltung der Heimatfreunde Oberstein e.V.
END:VEVENT
END:VCALENDAR