BEGIN:VCALENDAR
VERSION:2.0
PRODID:-//deutsches mineralienmuseum - ECPv6.15.20//NONSGML v1.0//EN
CALSCALE:GREGORIAN
METHOD:PUBLISH
X-WR-CALNAME:deutsches mineralienmuseum
X-ORIGINAL-URL:https://deutsches-mineralienmuseum.de
X-WR-CALDESC:Veranstaltungen für deutsches mineralienmuseum
REFRESH-INTERVAL;VALUE=DURATION:PT1H
X-Robots-Tag:noindex
X-PUBLISHED-TTL:PT1H
BEGIN:VTIMEZONE
TZID:Europe/Berlin
BEGIN:DAYLIGHT
TZOFFSETFROM:+0100
TZOFFSETTO:+0200
TZNAME:CEST
DTSTART:20250330T010000
END:DAYLIGHT
BEGIN:STANDARD
TZOFFSETFROM:+0200
TZOFFSETTO:+0100
TZNAME:CET
DTSTART:20251026T010000
END:STANDARD
BEGIN:DAYLIGHT
TZOFFSETFROM:+0100
TZOFFSETTO:+0200
TZNAME:CEST
DTSTART:20260329T010000
END:DAYLIGHT
BEGIN:STANDARD
TZOFFSETFROM:+0200
TZOFFSETTO:+0100
TZNAME:CET
DTSTART:20261025T010000
END:STANDARD
BEGIN:DAYLIGHT
TZOFFSETFROM:+0100
TZOFFSETTO:+0200
TZNAME:CEST
DTSTART:20270328T010000
END:DAYLIGHT
BEGIN:STANDARD
TZOFFSETFROM:+0200
TZOFFSETTO:+0100
TZNAME:CET
DTSTART:20271031T010000
END:STANDARD
BEGIN:DAYLIGHT
TZOFFSETFROM:+0100
TZOFFSETTO:+0200
TZNAME:CEST
DTSTART:20280326T010000
END:DAYLIGHT
BEGIN:STANDARD
TZOFFSETFROM:+0200
TZOFFSETTO:+0100
TZNAME:CET
DTSTART:20281029T010000
END:STANDARD
END:VTIMEZONE
BEGIN:VEVENT
DTSTART;VALUE=DATE:20260510
DTEND;VALUE=DATE:20260517
DTSTAMP:20260424T155646
CREATED:20250729T203311Z
LAST-MODIFIED:20250729T204115Z
UID:4317-1778403600-1778921999@deutsches-mineralienmuseum.de
SUMMARY:Bodensee\, 10.05. - 15.05.2026
DESCRIPTION:Der Inhalt ist geschützt.
URL:https://deutsches-mineralienmuseum.de/event/bodensee-10-05-15-05-2026
LOCATION:Bodensee\, Germany
CATEGORIES:Reise,Veranstaltung der Heimatfreunde Oberstein e.V.
END:VEVENT
BEGIN:VEVENT
DTSTART;TZID=Europe/Berlin:20260704T150000
DTEND;TZID=Europe/Berlin:20260704T220000
DTSTAMP:20260424T155646
CREATED:20260321T100908Z
LAST-MODIFIED:20260321T101844Z
UID:4492-1783177200-1783202400@deutsches-mineralienmuseum.de
SUMMARY:Weinprobe in KIRSCHROTH
DESCRIPTION:Der Inhalt ist geschützt.
URL:https://deutsches-mineralienmuseum.de/event/weinprobe-in-kirschroth
LOCATION:Krischroth\, Weingut Barth\, Germany
CATEGORIES:Veranstaltung der Heimatfreunde Oberstein e.V.
END:VEVENT
BEGIN:VEVENT
DTSTART;VALUE=DATE:20260920
DTEND;VALUE=DATE:20260927
DTSTAMP:20260424T155646
CREATED:20251230T184220Z
LAST-MODIFIED:20251230T185708Z
UID:4460-1789894800-1790413199@deutsches-mineralienmuseum.de
SUMMARY:Nordsee Wilhelmshaven
DESCRIPTION:Der Inhalt ist geschützt.
URL:https://deutsches-mineralienmuseum.de/event/nordsee-wilhelmshaven
LOCATION:Wilhelmshaven
CATEGORIES:Reise,Veranstaltung der Heimatfreunde Oberstein e.V.
END:VEVENT
BEGIN:VEVENT
DTSTART;VALUE=DATE:20261010
DTEND;VALUE=DATE:20261012
DTSTAMP:20260424T155646
CREATED:20251217T150912Z
LAST-MODIFIED:20251230T184544Z
UID:4445-1791622800-1791709199@deutsches-mineralienmuseum.de
SUMMARY:Schlagernacht in Stuttgart
DESCRIPTION:Der Inhalt ist geschützt.
URL:https://deutsches-mineralienmuseum.de/event/schlagernacht-in-stuttgart
LOCATION:Stuttgart\, Hans-Martin-Schleyer-Halle\, Stuttgart\, Germany
CATEGORIES:Reise,Veranstaltung der Heimatfreunde Oberstein e.V.
END:VEVENT
BEGIN:VEVENT
DTSTART;VALUE=DATE:20270703
DTEND;VALUE=DATE:20270712
DTSTAMP:20260424T155646
CREATED:20260417T191751Z
LAST-MODIFIED:20260417T191933Z
UID:4512-1814605200-1815296399@deutsches-mineralienmuseum.de
SUMMARY:Flusskreuzfahrt Rhone und Saône 2027
DESCRIPTION:Heimatfreunde On Tour \nFrankreich Rhône und Saône \n03.07.2027 bis 10.07.2027
URL:https://deutsches-mineralienmuseum.de/event/flusskreuzfahrt-rhone-und-saone-2027
LOCATION:Frankreich\, France
CATEGORIES:Reise,Veranstaltung der Heimatfreunde Oberstein e.V.
END:VEVENT
END:VCALENDAR