BEGIN:VCALENDAR
VERSION:2.0
PRODID:-//deutsches mineralienmuseum - ECPv6.15.20//NONSGML v1.0//EN
CALSCALE:GREGORIAN
METHOD:PUBLISH
X-ORIGINAL-URL:https://deutsches-mineralienmuseum.de
X-WR-CALDESC:Veranstaltungen für deutsches mineralienmuseum
REFRESH-INTERVAL;VALUE=DURATION:PT1H
X-Robots-Tag:noindex
X-PUBLISHED-TTL:PT1H
BEGIN:VTIMEZONE
TZID:Europe/Berlin
BEGIN:DAYLIGHT
TZOFFSETFROM:+0100
TZOFFSETTO:+0200
TZNAME:CEST
DTSTART:20240331T010000
END:DAYLIGHT
BEGIN:STANDARD
TZOFFSETFROM:+0200
TZOFFSETTO:+0100
TZNAME:CET
DTSTART:20241027T010000
END:STANDARD
BEGIN:DAYLIGHT
TZOFFSETFROM:+0100
TZOFFSETTO:+0200
TZNAME:CEST
DTSTART:20250330T010000
END:DAYLIGHT
BEGIN:STANDARD
TZOFFSETFROM:+0200
TZOFFSETTO:+0100
TZNAME:CET
DTSTART:20251026T010000
END:STANDARD
BEGIN:DAYLIGHT
TZOFFSETFROM:+0100
TZOFFSETTO:+0200
TZNAME:CEST
DTSTART:20260329T010000
END:DAYLIGHT
BEGIN:STANDARD
TZOFFSETFROM:+0200
TZOFFSETTO:+0100
TZNAME:CET
DTSTART:20261025T010000
END:STANDARD
BEGIN:DAYLIGHT
TZOFFSETFROM:+0100
TZOFFSETTO:+0200
TZNAME:CEST
DTSTART:20270328T010000
END:DAYLIGHT
BEGIN:STANDARD
TZOFFSETFROM:+0200
TZOFFSETTO:+0100
TZNAME:CET
DTSTART:20271031T010000
END:STANDARD
END:VTIMEZONE
BEGIN:VEVENT
DTSTART;TZID=Europe/Berlin:20260218T183000
DTEND;TZID=Europe/Berlin:20260218T220000
DTSTAMP:20260424T173450
CREATED:20260121T174305Z
LAST-MODIFIED:20260121T174343Z
UID:4472-1771439400-1771452000@deutsches-mineralienmuseum.de
SUMMARY:Heringsessen 2026
DESCRIPTION:Der Inhalt ist geschützt.
URL:https://deutsches-mineralienmuseum.de/event/heringsessen-2026
LOCATION:Schlossschenke\, Hauptstrasse 442\, Idar-Oberstein\, 55743\, Germany
CATEGORIES:Veranstaltung der Heimatfreunde Oberstein e.V.
END:VEVENT
BEGIN:VEVENT
DTSTART;TZID=Europe/Berlin:20260118T160000
DTEND;TZID=Europe/Berlin:20260118T180000
DTSTAMP:20260424T173450
CREATED:20251217T145408Z
LAST-MODIFIED:20251217T145634Z
UID:4441-1768752000-1768759200@deutsches-mineralienmuseum.de
SUMMARY:Neujahrsempfang 2026 der Heimatfreunde
DESCRIPTION:Neujahrsempfang der Heimatfreunde Oberstein e.V. \nSonntag\, den 18. Januar 2026\, um 16:00 Uhr. \n  \n 
URL:https://deutsches-mineralienmuseum.de/event/neujahrsempfang-2026-der-heimatfreunde
LOCATION:Deutsches Mineralienmuseum\, Hauptstraße 436\, Idar-Oberstein\, 55743\, Germany
CATEGORIES:Veranstaltung der Heimatfreunde Oberstein e.V.
END:VEVENT
BEGIN:VEVENT
DTSTART;TZID=Europe/Berlin:20251120T190000
DTEND;TZID=Europe/Berlin:20251120T210000
DTSTAMP:20260424T173450
CREATED:20251014T183851Z
LAST-MODIFIED:20251104T182731Z
UID:4337-1763665200-1763672400@deutsches-mineralienmuseum.de
SUMMARY:Mitgliederversammlung Heimatfreunde
DESCRIPTION:Der Inhalt ist geschützt.
URL:https://deutsches-mineralienmuseum.de/event/jahreshauptversammlung-heimatfreunde
END:VEVENT
END:VCALENDAR